BEGIN:VCALENDAR
METHOD:PUBLISH
PRODID:-//LogicWorks GmbH//NONSGML Contentory//EN
VERSION:2.0
CALSCALE:GREGORIAN
X-MS-OLK-FORCEINSPECTOROPEN:TRUE
BEGIN:VEVENT
DTSTAMP:20260424T224241Z
SUMMARY:Workshopreihe rund um die Antragstellung in Cluster 6: Dissemination\, Ex
 ploitation\, Communication?!
DESCRIPTION:Veranstalter: Nationale Kontaktstelle Bioökonomie und UmweltDie Nationale
  Kontaktstelle Bioökonomie und Umwelt veranstaltet eine Workshopreihe zur
  Vertiefung verschiedener Themen rund um die Antragstellung in Cluster 6. 
 Sie richtet sich an Antragstellende und Interessierte an Cluster 6 in Hor
 izont Europa.
LOCATION:online
CREATED:20230717T110302
LAST-MODIFIED:20230719T082650
DTSTART;VALUE=DATE:20231019T100000
DTEND;VALUE=DATE:20231019T123000
UID:sn_1025_date_0@logic-works.net
END:VEVENT
END:VCALENDAR