BEGIN:VCALENDAR
METHOD:PUBLISH
PRODID:-//LogicWorks GmbH//NONSGML Contentory//EN
VERSION:2.0
CALSCALE:GREGORIAN
X-MS-OLK-FORCEINSPECTOROPEN:TRUE
BEGIN:VEVENT
DTSTAMP:20260425T152145Z
SUMMARY:Horizont Europa entschlüsselt: Recherchen im Horizon Dashboard und auf de
 r Webseite CORDIS
DESCRIPTION:Veranstalter: NKS Bioökonomie und UmweltIm Sommer 2025 lädt die National
 e Kontaktstelle Bioökonomie und Umwelt zu einer spannenden Webinarreihe r
 und um Horizont Europa ein. Die Veranstaltungen richten sich an alle\, die
  daran interessiert sind\, einen Antrag im Rahmen der Ausschreibungen der 
 Missionsarbeitsprogramme oder des Cluster-6-Arbeitsprogramms für das Jahr
  2025 einzureichen. Nutzen Sie diese Chance zur optimalen Vorbereitung!
LOCATION:online
CREATED:20250407T155304
LAST-MODIFIED:20250411T070821
DTSTART;VALUE=DATE:20250612T100000
DTEND;VALUE=DATE:20250612T110000
UID:sn_1740_date_0@logic-works.net
END:VEVENT
END:VCALENDAR