BEGIN:VCALENDAR
METHOD:PUBLISH
PRODID:-//LogicWorks GmbH//NONSGML Contentory//EN
VERSION:2.0
CALSCALE:GREGORIAN
X-MS-OLK-FORCEINSPECTOROPEN:TRUE
BEGIN:VEVENT
DTSTAMP:20260425T151822Z
SUMMARY:Horizont Europa entschlüsselt: Lump Sum-Finanzierung im Antrag und Projek
 t
DESCRIPTION:Veranstalter: NKS Bioökonomie und Umwelt & NKS Recht und FinanzenIm Som
 mer 2025 lädt die Nationale Kontaktstelle Bioökonomie und Umwelt zu eine
 r spannenden Webinarreihe rund um Horizont Europa ein. Die Veranstaltungen
  richten sich an alle\, die daran interessiert sind\, einen Antrag im Rahm
 en der Ausschreibungen der Missionsarbeitsprogramme oder des Cluster-6-Arb
 eitsprogramms für das Jahr 2025 einzureichen. Nutzen Sie diese Chance zu
 r optimalen Vorbereitung!
LOCATION:online
CREATED:20250407T153758
LAST-MODIFIED:20250409T113539
DTSTART;VALUE=DATE:20250603T140000
DTEND;VALUE=DATE:20250603T150000
UID:sn_1730_date_0@logic-works.net
END:VEVENT
END:VCALENDAR