BEGIN:VCALENDAR
METHOD:PUBLISH
PRODID:-//LogicWorks GmbH//NONSGML Contentory//EN
VERSION:2.0
CALSCALE:GREGORIAN
X-MS-OLK-FORCEINSPECTOROPEN:TRUE
BEGIN:VEVENT
DTSTAMP:20260425T171243Z
SUMMARY:Horizont Europa entschlüsselt: Grundbegriffe Teil 1 im Bereich Forschung 
 und Innovation in Horizont Europa
DESCRIPTION:Veranstalter: NKS Bioökonomie und UmweltIm Sommer 2025 lädt die Nationa
 le Kontaktstelle Bioökonomie und Umwelt zu einer spannenden Webinarreihe 
 rund um Horizont Europa ein. Die Veranstaltungen richten sich an alle\, di
 e daran interessiert sind\, einen Antrag im Rahmen der Ausschreibungen der
  Missionsarbeitsprogramme oder des Cluster-6-Arbeitsprogramms für das Jah
 r 2025 einzureichen. Nutzen Sie diese Chance zur optimalen Vorbereitung!
LOCATION:online
CREATED:20250407T152907
LAST-MODIFIED:20250409T113220
DTSTART;VALUE=DATE:20250603T100000
DTEND;VALUE=DATE:20250603T110000
UID:sn_1728_date_0@logic-works.net
END:VEVENT
END:VCALENDAR