BEGIN:VCALENDAR
METHOD:PUBLISH
PRODID:-//LogicWorks GmbH//NONSGML Contentory//EN
VERSION:2.0
CALSCALE:GREGORIAN
X-MS-OLK-FORCEINSPECTOROPEN:TRUE
BEGIN:VEVENT
DTSTAMP:20260421T103250Z
SUMMARY:Veranstaltungsreihe zur Pilotaktion Circular Rural Regions
DESCRIPTION:Veranstalter: BMWSB & BBSRDas Bundesministerium für Wohnen\, Stadtentwick
 lung und Bauwesen lädt zusammen mit dem Bundesinstitut für Bau-\, Stadt-
  und Raumforschung und der ESPON-Kontaktstelle an zwei Tagen dazu ein\, re
 gionale und nationale Kreislaufwirtschaft sowie die Umsetzung der Territor
 ialen Agenda 2030 zu betrachten.
LOCATION:Bundesamt für Bauwesen und Raumordnung\, Ernst-Reuter-Haus
CREATED:20240712T115930
LAST-MODIFIED:20240716T161429
DTSTART;VALUE=DATE:20240925T000000
DTEND;VALUE=DATE:20240926T235959
UID:sn_1391_date_0@logic-works.net
END:VEVENT
END:VCALENDAR