BEGIN:VCALENDAR
METHOD:PUBLISH
PRODID:-//LogicWorks GmbH//NONSGML Contentory//EN
VERSION:2.0
CALSCALE:GREGORIAN
X-MS-OLK-FORCEINSPECTOROPEN:TRUE
BEGIN:VEVENT
DTSTAMP:20260420T054946Z
SUMMARY:Online Training „How to apply the Multi Actor Approach in Cluster 6 Prop
 osals“
DESCRIPTION:Veranstalter: CARE4BIO Cluster 6 NCP NetzwerkEin großer Teil der Cluster 
 6 Topics erfordert die Anwendung des Multi-Actor Approach. Worum es sich d
 abei handelt und wie man diesen Ansatz zum Vorteil des EU-Projekts anwende
 t\, wird während des Trainings aus unterschiedlichen Blickwickeln beleuch
 tet.
LOCATION:online
CREATED:20231120T132455
LAST-MODIFIED:20231123T070516
DTSTART;VALUE=DATE:20231204T093000
DTEND;VALUE=DATE:20231204T120000
UID:sn_1118_date_0@logic-works.net
END:VEVENT
END:VCALENDAR