BEGIN:VCALENDAR
METHOD:PUBLISH
PRODID:-//LogicWorks GmbH//NONSGML Contentory//EN
VERSION:2.0
CALSCALE:GREGORIAN
X-MS-OLK-FORCEINSPECTOROPEN:TRUE
BEGIN:VEVENT
DTSTAMP:20260424T105334Z
SUMMARY:Neues Europäisches Bauhaus Festival: Kick-off zum Zukunft Bau Pop-up Camp
 us
DESCRIPTION:Erstmals findet im Juni dieses Jahres das „Neues Europäisches Bauhaus F
 estival“ statt. Den Auftakt macht dabei Brüssel\, aber auch andere Ort 
 in Europa können sich am Festival beteiligen. Mit dem Festival werden Akt
 ive und Interessierte zusammengebracht\, um eine Brücke zwischen Wissensc
 haft\, Forschung und Technologie und der Anwendung zu schaffen. Auch in Aa
 chen wird es eine Veranstaltung im Rahmen des Festivals geben: Die Kick-of
 f Veranstaltung zum Zukunft Bau Pop-up Campus.
LOCATION:Brüssel/ Aachen
CREATED:20220427T100736
LAST-MODIFIED:20220427T103144
DTSTART;VALUE=DATE:20220609T000000
DTEND;VALUE=DATE:20220610T235959
UID:sn_572_date_0@logic-works.net
END:VEVENT
END:VCALENDAR