BEGIN:VCALENDAR
METHOD:PUBLISH
PRODID:-//LogicWorks GmbH//NONSGML Contentory//EN
VERSION:2.0
CALSCALE:GREGORIAN
X-MS-OLK-FORCEINSPECTOROPEN:TRUE
BEGIN:VEVENT
DTSTAMP:20260421T222857Z
SUMMARY:Online-Seminar: „Klima in Cluster 2 und Cluster 5“
DESCRIPTION:Europa will bis 2050 klimaneutral sein und dafür bis 2030 ihre CO2-Emissi
 onen um 55 % senken. Klimabezogene Forschung ist daher ein maßgebliches Z
 iel und Querschnittsthema in Horizont Europa: 35 % des Gesamtbudgets solle
 n in klimabezogene Aktivitäten fließen.
LOCATION:online
CREATED:20210427T092344
LAST-MODIFIED:20210427T093504
DTSTART;VALUE=DATE:20210519T103000
DTEND;VALUE=DATE:20210519T120000
UID:sn_164_date_0@logic-works.net
END:VEVENT
END:VCALENDAR