BEGIN:VCALENDAR
METHOD:PUBLISH
PRODID:-//LogicWorks GmbH//NONSGML Contentory//EN
VERSION:2.0
CALSCALE:GREGORIAN
X-MS-OLK-FORCEINSPECTOROPEN:TRUE
BEGIN:VEVENT
DTSTAMP:20260419T182239Z
SUMMARY:Online-Seminar: „Klima in Cluster 1 und Cluster 6“
DESCRIPTION:Europa will bis 2050 klimaneutral sein und dafür bis 2030 ihre CO2-Emissi
 onen um 55 % senken. Klimabezogene Forschung ist daher ein maßgebliches Z
 iel und Querschnittsthema in Horizont Europa: 35 % des Gesamtbudgets solle
 n in klimabezogene Aktivitäten fließen.
LOCATION:online
CREATED:20210427T091142
LAST-MODIFIED:20210427T093341
DTSTART;VALUE=DATE:20210520T103000
DTEND;VALUE=DATE:20210520T120000
UID:sn_163_date_0@logic-works.net
END:VEVENT
END:VCALENDAR