BEGIN:VCALENDAR
METHOD:PUBLISH
PRODID:-//LogicWorks GmbH//NONSGML Contentory//EN
VERSION:2.0
CALSCALE:GREGORIAN
X-MS-OLK-FORCEINSPECTOROPEN:TRUE
BEGIN:VEVENT
DTSTAMP:20260420T025625Z
SUMMARY:Innovative Financing Support for the Circular Bioeconomy
DESCRIPTION:Veranstalter: nova-InstitutDer Aufbau einer nachhaltigen zirkulären Bioö
 konomie benötigt geeignete Finanzierungsoptionen. In einem Webinar beleuc
 hten Expertinnen und Experten verschiedene Finanzinstrumente\, die für ne
 ue Geschäftsmodelle zur Verfügung stehen. Im Fokus der Veranstaltung ste
 ht dabei die Entwicklung der zirkulären Bioökonomie in Europa.
LOCATION:online
CREATED:20220119T135233
LAST-MODIFIED:20220119T140703
DTSTART;VALUE=DATE:20220209T130000
DTEND;VALUE=DATE:20220209T163000
UID:sn_475_date_0@logic-works.net
END:VEVENT
END:VCALENDAR