BEGIN:VCALENDAR
METHOD:PUBLISH
PRODID:-//LogicWorks GmbH//NONSGML Contentory//EN
VERSION:2.0
CALSCALE:GREGORIAN
X-MS-OLK-FORCEINSPECTOROPEN:TRUE
BEGIN:VEVENT
DTSTAMP:20260422T181730Z
SUMMARY:Infoveranstaltung der NKS Bioökonomie und Umwelt zum Arbeitsprogramm 2024
  Cluster 6
DESCRIPTION:Veranstalter: Tutech Innovation GmbHDas EU Büro der Tutech organisiert ge
 meinsam mit der Nationalen Kontaktstelle Bioökonomie und Umwelt und der T
 echnischen Universität Hamburg eine Informationsveranstaltung zum Horizon
 t Europa Cluster 6 in Hamburg. Themenschwerpunkte sind die Fördermöglich
 keiten des Aufrufs 2024 sowie die Partnerschaft Circular Bio-based Europe 
 (CBE JU).
LOCATION:Hamburg
CREATED:20230712T143706
LAST-MODIFIED:20230712T162902
DTSTART;VALUE=DATE:20231010T100000
DTEND;VALUE=DATE:20231010T153000
UID:sn_1019_date_0@logic-works.net
END:VEVENT
END:VCALENDAR