BEGIN:VCALENDAR
METHOD:PUBLISH
PRODID:-//LogicWorks GmbH//NONSGML Contentory//EN
VERSION:2.0
CALSCALE:GREGORIAN
X-MS-OLK-FORCEINSPECTOROPEN:TRUE
BEGIN:VEVENT
DTSTAMP:20260420T045222Z
SUMMARY:Info-Veranstaltung „What next? – Einführung in die Fördermöglichkei
 ten in Cluster 5"
DESCRIPTION:Veranstalter: NKS Klima\, Energie\, MobilitätDas zweite Quartal 2025 wird
  spannend\, denn wir erwarten die Finalisierung und Veröffentlichung der 
 nächsten Arbeitsprogramme des EU-Förderprogramms Horizont Europa. Auch a
 ndere Cluster halten interessante Ausschreibungen für Sie bereit. Mit der
  NKS KEM-Veranstaltungsreihe werden Sie fit für Cluster 5. Es beginnt mit
  einer Vorstellung des Cluster 5 und seinen Besonderheiten.
LOCATION:online
CREATED:20241213T053738
LAST-MODIFIED:20250102T094140
DTSTART;VALUE=DATE:20250121T100000
DTEND;VALUE=DATE:20250121T120000
UID:sn_1561_date_0@logic-works.net
END:VEVENT
END:VCALENDAR