BEGIN:VCALENDAR
METHOD:PUBLISH
PRODID:-//LogicWorks GmbH//NONSGML Contentory//EN
VERSION:2.0
CALSCALE:GREGORIAN
X-MS-OLK-FORCEINSPECTOROPEN:TRUE
BEGIN:VEVENT
DTSTAMP:20260424T144754Z
SUMMARY:Horizont Europa Cluster 6 – Ihre Fördermöglichkeiten 2023 in Destinati
 on 3
DESCRIPTION:Veranstalter: Nationale Kontaktstelle Bioökonomie und UmweltIm Cluster 6 
 „Lebensmittel\, Bioökonomie\, natürliche Ressourcen\, Landwirtschaft u
 nd Umwelt“ des EU-Förderprogramms für Forschung und Innovation „Hori
 zont Europa“ wird Ende des Jahres das neue Arbeitsprogramm mit den Förd
 erausschreibungen für die Jahre 2023 und 2024 veröffentlicht. In diesem 
 Teil unserer Webinarreihe stellen wir Ihnen die Förderthemen der Destinat
 ion 3 "Kreislaufwirtschaft und Bioökonomie" vor.
LOCATION:online
CREATED:20221028T135628
LAST-MODIFIED:20221028T140210
DTSTART;VALUE=DATE:20221115T090000
DTEND;VALUE=DATE:20221115T103000
UID:sn_763_date_0@logic-works.net
END:VEVENT
END:VCALENDAR