BEGIN:VCALENDAR
METHOD:PUBLISH
PRODID:-//LogicWorks GmbH//NONSGML Contentory//EN
VERSION:2.0
CALSCALE:GREGORIAN
X-MS-OLK-FORCEINSPECTOROPEN:TRUE
BEGIN:VEVENT
DTSTAMP:20260420T194318Z
SUMMARY:Horizon Implementation Days 2024
DESCRIPTION:Veranstalter: Europäische KommissionAuch in diesem Jahr richtet die Europ
 äische Kommission die Online-Veranstaltungsreihe „Horizon Implementatio
 n Days“ aus. An drei Terminen werden verschiedene Aspekte der Antragstel
 lung und Förderung im Rahmen von Horizont Europa behandelt.
LOCATION:online
CREATED:20240911T183531
LAST-MODIFIED:20240911T191125
DTSTART;VALUE=DATE:20240926T000000
DTEND;VALUE=DATE:20241105T235959
UID:sn_1453_date_0@logic-works.net
END:VEVENT
END:VCALENDAR