BEGIN:VCALENDAR
METHOD:PUBLISH
PRODID:-//LogicWorks GmbH//NONSGML Contentory//EN
VERSION:2.0
CALSCALE:GREGORIAN
X-MS-OLK-FORCEINSPECTOROPEN:TRUE
BEGIN:VEVENT
DTSTAMP:20260419T181734Z
SUMMARY:Gutachter/innen berichten: Einblicke ins Horizont Europa Begutachtungsverf
 ahren
DESCRIPTION:Veranstalter: NKS Bioökonomie und UmweltEin Antrag hat in der Begutachtun
 g überzeugt – doch was genau führt zum Erfolg? Gutachterinnen und Guta
 chter und die NKS Bioökonomie und Umwelt teilen in einer zweieinhalbstün
 digen Online-Veranstaltung persönliche Erfahrungen\, geben praktische Tip
 ps für einen gelungenen Antrag und erklären den Prozess der Begutachtung
 .
LOCATION:online
CREATED:20221115T082820
LAST-MODIFIED:20221115T144417
DTSTART;VALUE=DATE:20230110T100000
DTEND;VALUE=DATE:20230110T123000
UID:sn_780_date_0@logic-works.net
END:VEVENT
END:VCALENDAR