BEGIN:VCALENDAR
METHOD:PUBLISH
PRODID:-//LogicWorks GmbH//NONSGML Contentory//EN
VERSION:2.0
CALSCALE:GREGORIAN
X-MS-OLK-FORCEINSPECTOROPEN:TRUE
BEGIN:VEVENT
DTSTAMP:20260423T214050Z
SUMMARY:EU Green Week 2024 - Auf dem Weg zu einem wasserresilienten Europa
DESCRIPTION:Veranstalter: EU-KommissionUm Europa angesichts der aktuellen Wasserkrisen
  resilient für heute und die Zukunft zu machen\, widmet sich die Konferen
 z der diesjährigen Grünen Woche diesem Thema. Die EU Green Week ist Teil
  einer umfassenderen Kommunikationskampagne der EU-Kommission und legt den
  Schwerpunkt auf Bewusstseinsbildung und die Förderung positiver\, kooper
 ativer Lösungen.
LOCATION:Brüssel
CREATED:20240306T195444
LAST-MODIFIED:20240313T170535
DTSTART;VALUE=DATE:20240529T000000
DTEND;VALUE=DATE:20240530T235959
UID:sn_1212_date_0@logic-works.net
END:VEVENT
END:VCALENDAR