BEGIN:VCALENDAR
METHOD:PUBLISH
PRODID:-//LogicWorks GmbH//NONSGML Contentory//EN
VERSION:2.0
CALSCALE:GREGORIAN
X-MS-OLK-FORCEINSPECTOROPEN:TRUE
BEGIN:VEVENT
DTSTAMP:20260420T012253Z
SUMMARY:Webinar: Fördermöglichkeiten für Wirtschaft und Wissenschaft im Cluster
  6 in Horizon Europe: unterwegs mit Kreislaufwirtschaft\, Nachhaltigkeit u
 nd dem Green Deal
DESCRIPTION:Veranstalter: ZENIT GmbH\, Nationale Kontaktstelle für Bioökonomie und U
 mweltDas von ZENIT und der Nationalen Kontaktstelle Bioökonomie und Umwel
 t ausgerichtete Webinar richtet sich an Akteurinnen und Akteure aus dem Um
 feld der Forschung und Innovation. Haben Sie Berührungspunkte zu Umweltwi
 rtschaft\, Ökoinnovation\, Bioökonomie\, Energie- und Ressourceneffizien
 z\, oder Nachhaltigkeit und Kreislaufwirtschaft? Sowohl als Anbieter\, als
  auch als Anwender sind Sie herzlich eingeladen teilzunehmen.
LOCATION:online
CREATED:20221109T140851
LAST-MODIFIED:20221109T143512
DTSTART;VALUE=DATE:20221208T100000
DTEND;VALUE=DATE:20221208T113000
UID:sn_778_date_0@logic-works.net
END:VEVENT
END:VCALENDAR