BEGIN:VCALENDAR
METHOD:PUBLISH
PRODID:-//LogicWorks GmbH//NONSGML Contentory//EN
VERSION:2.0
CALSCALE:GREGORIAN
X-MS-OLK-FORCEINSPECTOROPEN:TRUE
BEGIN:VEVENT
DTSTAMP:20260419T191740Z
SUMMARY:Fördermöglichkeiten im Bereich Lebensmittel\, natürliche Ressourcen\, L
 andwirtschaft und Umwelt (Cluster 6) sowie der Boden- und Klimamission in 
 Horizont Europa
DESCRIPTION:Veranstalter: NKS B&U\, Universität Trier\, Hochschule TrierDie Nationale
  Kontaktstelle Bioökonomie und Umwelt informiert in Zusammenarbeit mit de
 r Universität Trier und der Hochschule Trier über die Fördermöglichkei
 ten zu den Themengebieten des Clusters 6 von Horizont Europa. Auch die Aus
 schreibungen in der Boden-und Klimamission sind Teil dieser Veranstaltung.
LOCATION:Universität Trier
CREATED:20230824T151856
LAST-MODIFIED:20230824T152518
DTSTART;VALUE=DATE:20230926T100000
DTEND;VALUE=DATE:20230926T123000
UID:sn_1058_date_0@logic-works.net
END:VEVENT
END:VCALENDAR