BEGIN:VCALENDAR
METHOD:PUBLISH
PRODID:-//LogicWorks GmbH//NONSGML Contentory//EN
VERSION:2.0
CALSCALE:GREGORIAN
X-MS-OLK-FORCEINSPECTOROPEN:TRUE
BEGIN:VEVENT
DTSTAMP:20260422T172008Z
SUMMARY:European Week of Regions and Cities 2024
DESCRIPTION:Veranstalter: Europäische Kommission und Europäischer Ausschuss der Regi
 onen Die European Week of Regions and Cities ist eine jährliche Konferenz
  der Europäischen Kommission zu den gemeinsamen Herausforderungen für Eu
 ropas Regionen und Städte.  Die Veranstaltungsreihe bringt Agierende aus
  unterschiedlichen Fachbereichen und Regionen zusammen. In diesem Jahr ste
 ht sie unter dem Motto "Empowering Communities".
LOCATION:Brüssel
CREATED:20240913T123245
LAST-MODIFIED:20240919T132809
DTSTART;VALUE=DATE:20241007T000000
DTEND;VALUE=DATE:20241010T235959
UID:sn_1457_date_0@logic-works.net
END:VEVENT
END:VCALENDAR