BEGIN:VCALENDAR
METHOD:PUBLISH
PRODID:-//LogicWorks GmbH//NONSGML Contentory//EN
VERSION:2.0
CALSCALE:GREGORIAN
X-MS-OLK-FORCEINSPECTOROPEN:TRUE
BEGIN:VEVENT
DTSTAMP:20260419T152810Z
SUMMARY:EU Mission Info Days 2025
DESCRIPTION:Veranstalter: EU-KommissionAuch in diesem Jahr wird es ein Arbeitsprogramm
  für die fünf Europäischen Missionen geben. Um Sie über die Ausschreib
 ungen im Missions-Arbeitsprogramm 2025 zu informieren\, richtet die EU-Ko
 mmission im Mai eine zweitägige Informationsveranstaltung aus.
LOCATION:online
CREATED:20250311T135840
LAST-MODIFIED:20250312T144310
DTSTART;VALUE=DATE:20250522T093000
DTEND;VALUE=DATE:20250523T235959
UID:sn_1684_date_0@logic-works.net
END:VEVENT
END:VCALENDAR