BEGIN:VCALENDAR
METHOD:PUBLISH
PRODID:-//LogicWorks GmbH//NONSGML Contentory//EN
VERSION:2.0
CALSCALE:GREGORIAN
X-MS-OLK-FORCEINSPECTOROPEN:TRUE
BEGIN:VEVENT
DTSTAMP:20260423T140654Z
SUMMARY:Erstes Festival zum Neuen Europäischen Bauhaus
DESCRIPTION:Veranstalter: EU-KommissionDie Europäische Kommission lädt zur Teilnahme
  am ersten Festival des Neuen Europäischen Bauhauses ein. Das Festival bi
 etet die Gelegenheit\, sich über die Werte und Prinzipien des Neuen Europ
 äischen Bauhauses zu informieren. Die Einladung der EU-Kommission richtet
  sich an einen weiten Adressatenkreis.
LOCATION:Brüssel\, hybride Veranstaltung
CREATED:20220215T095153
LAST-MODIFIED:20220316T125000
DTSTART;VALUE=DATE:20220609T000000
DTEND;VALUE=DATE:20220612T235959
UID:sn_499_date_0@logic-works.net
END:VEVENT
END:VCALENDAR