BEGIN:VCALENDAR
METHOD:PUBLISH
PRODID:-//LogicWorks GmbH//NONSGML Contentory//EN
VERSION:2.0
CALSCALE:GREGORIAN
X-MS-OLK-FORCEINSPECTOROPEN:TRUE
BEGIN:VEVENT
DTSTAMP:20260420T201428Z
SUMMARY:Horizont Europa â€“ EinfÃ¼hrung in die Missionen und das Neue EuropÃ¤ische
  Bauhaus
DESCRIPTION:Veranstalter:Â NKS BioÃ¶konomie und UmweltDie neuen Arbeitsprogramme des E
 U-FÃ¶rderprogramms â€žHorizont Europaâ€œ mit den FÃ¶rderausschreibungen fÃ
 ¼r das Jahr 2025 werden voraussichtlich im Mai 2025 verÃ¶ffentlicht. Die N
 KS BioÃ¶konomie und Umwelt (NKS B&U) stellt Ihnen bereits zu Beginn des Ja
 hres alle zu erwartenden Themen des Clusters 6\, der Missionen (auÃŸer Mis
 sion Krebs) sowie des Neuen EuropÃ¤ischen Bauhauses vor. In diesem Teil un
 serer Webinarreihe geben wir eine EinfÃ¼hrung in die Missionen und das Neu
 e EuropÃ¤ische Bauhaus.
LOCATION:online
CREATED:20241112T134902
LAST-MODIFIED:20241128T062853
DTSTART;VALUE=DATE:20250213T100000
DTEND;VALUE=DATE:20250213T120000
UID:sn_1536_date_0@logic-works.net
END:VEVENT
END:VCALENDAR