BEGIN:VCALENDAR
METHOD:PUBLISH
PRODID:-//LogicWorks GmbH//NONSGML Contentory//EN
VERSION:2.0
CALSCALE:GREGORIAN
X-MS-OLK-FORCEINSPECTOROPEN:TRUE
BEGIN:VEVENT
DTSTAMP:20260420T010910Z
SUMMARY:CBE JU Info Day 2024
DESCRIPTION:Veranstalter: CBE JUDas Circular Bio-based Europe Joint Undertaking (CBE 
 JU) ist eine institutionalisierte Europäische Partnerschaft zwischen der
  Europäischen Union und dem Konsortium der biobasierten Industrie (Bio-ba
 sed Industries Consortium\, BIC). Am 23. April 2024  führt sie einen In
 formationstag zu den Ausschreibungen des Arbeitsprogramms 2024 durch. 
LOCATION:Brüssel und online
CREATED:20240102T171001
LAST-MODIFIED:20240222T074027
DTSTART;VALUE=DATE:20240423T000000
DTEND;VALUE=DATE:20240423T235959
UID:sn_1150_date_0@logic-works.net
END:VEVENT
END:VCALENDAR