BEGIN:VCALENDAR
METHOD:PUBLISH
PRODID:-//LogicWorks GmbH//NONSGML Contentory//EN
VERSION:2.0
CALSCALE:GREGORIAN
X-MS-OLK-FORCEINSPECTOROPEN:TRUE
BEGIN:VEVENT
DTSTAMP:20260421T105430Z
SUMMARY:Blue Economy Baltic Forum
DESCRIPTION:Veranstalter: Polnische Nationale Kontaktstelle für das Programm Horizont
  Europa und weitereDie neue Initiative Blue Economy Baltic Forum lädt zu 
 einer Konferenz ein\, um die Zusammenarbeit im Ostseeraum bei der Umsetzun
 g der EU-Mission "Restore our Ocean and Waters" zu stärken.
LOCATION:Gda?sk (Danzig)\, Polen
CREATED:20230502T141654
LAST-MODIFIED:20230502T171152
DTSTART;VALUE=DATE:20230601T110000
DTEND;VALUE=DATE:20230602T163000
UID:sn_961_date_0@logic-works.net
END:VEVENT
END:VCALENDAR