BEGIN:VCALENDAR
METHOD:PUBLISH
PRODID:-//LogicWorks GmbH//NONSGML Contentory//EN
VERSION:2.0
CALSCALE:GREGORIAN
X-MS-OLK-FORCEINSPECTOROPEN:TRUE
BEGIN:VEVENT
DTSTAMP:20260420T200512Z
SUMMARY:European Maritime Day Partner Event - „A boost for sustainable sea and o
 cean solutions. Intelligent technologies for the Blue Economy“
DESCRIPTION:Veranstalter: Fraunhofer\, SINTEF\, VTT\, RISE\, TNO\, Tecnalia\, +Atlanti
 c CoLAB und AZTIZum Start der Innovationsplattform „Sustainable Sea and 
 Ocean Solutions“ lädt Fraunhofer\, gemeinsam mit seinen Partnern +Atlan
 tic CoLAB\, AZTI\, RISE\, SINTEF\, TECNALIA\, TNO und VTT\, zum European M
 aritime Day Partner Event "A boost for sustainable sea and ocean solutions
 . Intelligente Technologien für die Blaue Wirtschaft - ISSS-Plattform" ei
 n.
LOCATION:online
CREATED:20210714T115122
LAST-MODIFIED:20210830T094357
DTSTART;VALUE=DATE:20210923T100000
DTEND;VALUE=DATE:20210923T150000
UID:sn_263_date_0@logic-works.net
END:VEVENT
END:VCALENDAR