BEGIN:VCALENDAR
METHOD:PUBLISH
PRODID:-//LogicWorks GmbH//NONSGML Contentory//EN
VERSION:2.0
CALSCALE:GREGORIAN
X-MS-OLK-FORCEINSPECTOROPEN:TRUE
BEGIN:VEVENT
DTSTAMP:20260422T163055Z
SUMMARY:Netzwerkveranstaltung zu den Missionen in Horizont Europa zu Klima und StÃ
 ¤dten
DESCRIPTION:Veranstalter: Turkey in Horizon 2020 (IDI Ltd)Die internationale Netzwerkv
 eranstaltung richtet sich an Akteurinnen und Akteure mit dem Ziel die EU-M
 issionen zur Anpassung an den Klimawandel sowie fÃ¼r klimaneutrale und int
 elligente StÃ¤dte voran zu bringen. Dies ist die Gelegenheit eine sektorÃ¼
 bergreifende Zusammenarbeit und den Austausch von Projektideen anzustoÃŸen
 .
LOCATION:online
CREATED:20220121T140948
LAST-MODIFIED:20220121T163219
DTSTART;VALUE=DATE:20220210T090000
DTEND;VALUE=DATE:20220210T163000
UID:sn_479_date_0@logic-works.net
END:VEVENT
END:VCALENDAR