BEGIN:VCALENDAR
METHOD:PUBLISH
PRODID:-//LogicWorks GmbH//NONSGML Contentory//EN
VERSION:2.0
CALSCALE:GREGORIAN
X-MS-OLK-FORCEINSPECTOROPEN:TRUE
BEGIN:VEVENT
DTSTAMP:20260423T194922Z
SUMMARY:RP Kompakt - Multiplikator/innenseminar zu Horizont Europa
DESCRIPTION:Veranstalter: EU-Büro des BMBFDie Veranstaltung richtet sich an Multiplik
 atorinnen und Multiplikatoren des Rahmenprogramms Horizont Europa\, welche
  noch keine eingehende Erfahrung mit den Prozessen haben. Diverse Themen w
 erden durch praxisbezogene Berichte und Übungen veranschaulicht und versc
 haffen einen Überblick über das Programm.
LOCATION:online
CREATED:20210830T150500
LAST-MODIFIED:20210830T172051
DTSTART;VALUE=DATE:20211026T000000
DTEND;VALUE=DATE:20211110T235959
UID:sn_307_date_0@logic-works.net
END:VEVENT
END:VCALENDAR